BEGIN:VCALENDAR
VERSION:2.0
PRODID:-//Lebenstraum Gemeinschaft Jahnishausen - ECPv6.15.18//NONSGML v1.0//EN
CALSCALE:GREGORIAN
METHOD:PUBLISH
X-ORIGINAL-URL:https://ltgj.de
X-WR-CALDESC:Veranstaltungen für Lebenstraum Gemeinschaft Jahnishausen
REFRESH-INTERVAL;VALUE=DURATION:PT1H
X-Robots-Tag:noindex
X-PUBLISHED-TTL:PT1H
BEGIN:VTIMEZONE
TZID:UTC
BEGIN:STANDARD
TZOFFSETFROM:+0000
TZOFFSETTO:+0000
TZNAME:UTC
DTSTART:20220101T000000
END:STANDARD
END:VTIMEZONE
BEGIN:VEVENT
DTSTART;TZID=UTC:20230804T170000
DTEND;TZID=UTC:20230808T140000
DTSTAMP:20260426T040213
CREATED:20230119T115305Z
LAST-MODIFIED:20230729T181049Z
UID:2095-1691168400-1691503200@ltgj.de
SUMMARY:Info-und Schaffenstage  fällt aus
DESCRIPTION:Wir laden Euch ein\, einen Einblick in unsere Gemeinschaft und die neuen Projekte SoLaWi\, Freie Schule und Kinderbetreuung zu bekommen.\nWir arbeiten gemeinsam am weiteren Aufbau. In diesen Zeiten werden wir praktisch Fragen wie Entscheidungsstrukturen\, Ökonomie\, Kommunikation\, Kinderbetreuung\, eine eigene Schule und eine SoLaWi haut nah erleben. \nAnkunft ist am Freitag\, 04.08.2023\, 16:00 – 18:00 Uhr\, bis Dienstag\, 08.08.2023 nach dem Mittagessen. \nWeitere Infos bitte bei der Anmeldung erfragen.\nDarüber hinaus gibt es die Möglichkeit als helfender Gast oder Working Gast zu verlängern und uns weiter kennen zu lernen. \nKursgebühr\nBarzahlung vor Ort\, nach Selbsteinschätzung 130/150/170 €  incl. Übernachtung und vegetarisch biologischer Vollwertverpflegung.\nKinder: bis 5 Jahre frei; 6 bis 12 Jahre 20€; 12-17 Jahre 40 Euro \nWir bitten um Anmeldung bis spätestens 10 Tage vorher. \nNach Anmeldung überweist uns bitte 30€ Anmeldegebühr. \nBitte überweist sie auf das Konto bei der Volksbank Riesa \nName: Jahnis     IBAN: DE13 8509 4984 00 03 6062 01 \nBei Absage eine Woche vorher behalten wir die 30€ ein.
URL:https://ltgj.de/termin/infowochenende-5/
ATTACH;FMTTYPE=image/jpeg:https://ltgj.de/wp-content/uploads/2021/11/P1010460-300x225-1.jpg
END:VEVENT
END:VCALENDAR