BEGIN:VCALENDAR
VERSION:2.0
PRODID:-//Lebenstraum Gemeinschaft Jahnishausen - ECPv6.15.18//NONSGML v1.0//EN
CALSCALE:GREGORIAN
METHOD:PUBLISH
X-WR-CALNAME:Lebenstraum Gemeinschaft Jahnishausen
X-ORIGINAL-URL:https://ltgj.de
X-WR-CALDESC:Veranstaltungen für Lebenstraum Gemeinschaft Jahnishausen
REFRESH-INTERVAL;VALUE=DURATION:PT1H
X-Robots-Tag:noindex
X-PUBLISHED-TTL:PT1H
BEGIN:VTIMEZONE
TZID:Europe/Berlin
BEGIN:DAYLIGHT
TZOFFSETFROM:+0100
TZOFFSETTO:+0200
TZNAME:CEST
DTSTART:20230326T010000
END:DAYLIGHT
BEGIN:STANDARD
TZOFFSETFROM:+0200
TZOFFSETTO:+0100
TZNAME:CET
DTSTART:20231029T010000
END:STANDARD
BEGIN:DAYLIGHT
TZOFFSETFROM:+0100
TZOFFSETTO:+0200
TZNAME:CEST
DTSTART:20240331T010000
END:DAYLIGHT
BEGIN:STANDARD
TZOFFSETFROM:+0200
TZOFFSETTO:+0100
TZNAME:CET
DTSTART:20241027T010000
END:STANDARD
BEGIN:DAYLIGHT
TZOFFSETFROM:+0100
TZOFFSETTO:+0200
TZNAME:CEST
DTSTART:20250330T010000
END:DAYLIGHT
BEGIN:STANDARD
TZOFFSETFROM:+0200
TZOFFSETTO:+0100
TZNAME:CET
DTSTART:20251026T010000
END:STANDARD
END:VTIMEZONE
BEGIN:VEVENT
DTSTART;TZID=Europe/Berlin:20240409T100000
DTEND;TZID=Europe/Berlin:20240528T110000
DTSTAMP:20260422T073541
CREATED:20231207T113751Z
LAST-MODIFIED:20240310T140402Z
UID:2321-1712656800-1716894000@ltgj.de
SUMMARY:Pilates Mattentraining
DESCRIPTION:Jeden Dienstag 10 – 11.00 Uhr \n8x 9.04.-28.05.24 \nEin Einsteigerkurs für jene \, die etwas mehr für ihren Körper tun möchten. \nAblauf: Aufwärmung\, Pilates Prinzipien und das „Powerhouse “ kennenlernen\, \nklassische Pilates Übungen auf der Matte\, Dehnung und Entspannung. \nVorraussetzung: Freude am gemeinsamen Üben in der Gruppe. \nGut Jahnishausen Falknerei \nAnmeldung und Information: \nMarina Mail: mary.physio@web.de
URL:https://ltgj.de/termin/pilates-mattentraining/
ATTACH;FMTTYPE=image/jpeg:https://ltgj.de/wp-content/uploads/2023/12/image01.jpeg
END:VEVENT
BEGIN:VEVENT
DTSTART;TZID=Europe/Berlin:20240412T000000
DTEND;TZID=Europe/Berlin:20241111T000000
DTSTAMP:20260422T073541
CREATED:20231207T114733Z
LAST-MODIFIED:20240219T102755Z
UID:2327-1712880000-1731283200@ltgj.de
SUMMARY:Aromamassage
DESCRIPTION:regelmäßig ab 12. April 2024\n \nTermin nach Vereinbarung \nMarina Mail: mary.physio@web.de
URL:https://ltgj.de/termin/aromamassage/
ATTACH;FMTTYPE=image/jpeg:https://ltgj.de/wp-content/uploads/2023/12/Marina-scaled.jpeg
END:VEVENT
END:VCALENDAR